BEGIN:VCALENDAR
VERSION:2.0
PRODID:-//Stichting Divine Light - ECPv6.10.1.1//NONSGML v1.0//EN
CALSCALE:GREGORIAN
METHOD:PUBLISH
X-ORIGINAL-URL:https://stichtingdivinelight.com
X-WR-CALDESC:Evenementen voor Stichting Divine Light
REFRESH-INTERVAL;VALUE=DURATION:PT1H
X-Robots-Tag:noindex
X-PUBLISHED-TTL:PT1H
BEGIN:VTIMEZONE
TZID:UTC
BEGIN:STANDARD
TZOFFSETFROM:+0000
TZOFFSETTO:+0000
TZNAME:UTC
DTSTART:20250101T000000
END:STANDARD
END:VTIMEZONE
BEGIN:VEVENT
DTSTART;VALUE=DATE:20250114
DTEND;VALUE=DATE:20250115
DTSTAMP:20260420T161107
CREATED:20250113T111528Z
LAST-MODIFIED:20250222T111715Z
UID:505-1736812800-1736899199@stichtingdivinelight.com
SUMMARY:Vandaag is de oma of zoals Lovie haar noemt Ama van stichtingdivinelight jarig
DESCRIPTION:https://stichtingdivinelight.com/wp-content/uploads/2025/02/VID-20250114-WA0000.mp4\nVandaag is de oma of zoals Lovie haar noemt Ama van #stichtingdivinelight jarig. May God Bless you in Abundance. Lieve vrienden van stg Divine Light doet u ook een donatie in haar naam (deze zal zij niet persoonlijk ontvangen maar worden gebruikt voor onze events) https://www.ing.nl/payreq/m/?trxid=mR9ozEaAnMrKdtCv1nN7Ffu8rxEWacAF \n  \n#gevenisontvangen #jarig #jarigvandaag
URL:https://stichtingdivinelight.com/event/vandaag-is-de-oma-of-zoals-lovie-haar-noemt-ama-van-stichtingdivinelight-jarig/
CATEGORIES:Algemeen
END:VEVENT
END:VCALENDAR