BEGIN:VCALENDAR
VERSION:2.0
PRODID:-//Stichting Divine Light - ECPv6.10.1.1//NONSGML v1.0//EN
CALSCALE:GREGORIAN
METHOD:PUBLISH
X-WR-CALNAME:Stichting Divine Light
X-ORIGINAL-URL:https://stichtingdivinelight.com
X-WR-CALDESC:Evenementen voor Stichting Divine Light
REFRESH-INTERVAL;VALUE=DURATION:PT1H
X-Robots-Tag:noindex
X-PUBLISHED-TTL:PT1H
BEGIN:VTIMEZONE
TZID:UTC
BEGIN:STANDARD
TZOFFSETFROM:+0000
TZOFFSETTO:+0000
TZNAME:UTC
DTSTART:20250101T000000
END:STANDARD
END:VTIMEZONE
BEGIN:VEVENT
DTSTART;TZID=UTC:20250125T080000
DTEND;TZID=UTC:20250125T170000
DTSTAMP:20260420T160748
CREATED:20250124T110912Z
LAST-MODIFIED:20250222T111834Z
UID:501-1737792000-1737824400@stichtingdivinelight.com
SUMMARY:1e meeting Divine Light
DESCRIPTION:https://stichtingdivinelight.com/wp-content/uploads/2025/02/VID-20250125-WA0000.mp4\n1e Meeting\nDivine Light\nSuriname & Nederland\nThank you Super Team🙏🏽💞 Voor een mooi en succesvol 2024 en een nog mooier en succesvoller 2025🙌🏽🙌🏽🙌🏽 Ly-Dan\nDamian\nMama\nMiliene\nMaureen\nMarissa\nNancy Kammeron\nNancy Balsemhof\nTante Joyce\nJo-Ann\nDanielle\nTeri-Ann\nAstra\nBianca\nAshleigh\nClyde\nRomea\nCharissa
URL:https://stichtingdivinelight.com/event/1e-meeting-divine-light/
CATEGORIES:Algemeen
END:VEVENT
END:VCALENDAR